BEGIN:VCALENDAR
VERSION:2.0
PRODID:-//www.bueren.ch//NONSGML kigkonsult.se iCalcreator 2.22//
CALSCALE:GREGORIAN
METHOD:PUBLISH
X-WR-TIMEZONE:Europe/Berlin
BEGIN:VEVENT
UID:20260420T060349CEST-5172M0tKVK@www.bueren.ch
DTSTAMP:20260420T040349Z
DESCRIPTION:Klicken Sie auf den folgenden Link\, um weitere Informationen z
 ur Veranstaltung zu erhalten:\nhttp://www.bueren.ch/de/veranstaltungen/det
 ail/detail.php?i=708
DTSTART:20260925T190000
DTEND:20260925T220000
LOCATION:Ref. Kirchgemeindehaus
SUMMARY:Kino
END:VEVENT
END:VCALENDAR
