BEGIN:VCALENDAR
VERSION:2.0
PRODID:-//www.bueren.ch//NONSGML kigkonsult.se iCalcreator 2.22//
CALSCALE:GREGORIAN
METHOD:PUBLISH
X-WR-TIMEZONE:Europe/Berlin
BEGIN:VEVENT
UID:20260420T060724CEST-38870HFrio@www.bueren.ch
DTSTAMP:20260420T040724Z
DESCRIPTION:Klicken Sie auf den folgenden Link\, um weitere Informationen z
 ur Veranstaltung zu erhalten:\nhttp://www.bueren.ch/de/veranstaltungen/det
 ail/detail.php?i=707
DTSTART:20260522T190000
DTEND:20260522T220000
LOCATION:Ref. Kirchgemeindehaus
SUMMARY:Kino  'Dschungelkind'
END:VEVENT
END:VCALENDAR
