BEGIN:VCALENDAR
VERSION:2.0
PRODID:-//www.bueren.ch//NONSGML kigkonsult.se iCalcreator 2.22//
CALSCALE:GREGORIAN
METHOD:PUBLISH
X-WR-TIMEZONE:Europe/Berlin
BEGIN:VEVENT
UID:20260426T045419CEST-9695NuBIBe@www.bueren.ch
DTSTAMP:20260426T025419Z
DESCRIPTION:Klicken Sie auf den folgenden Link\, um weitere Informationen z
 ur Veranstaltung zu erhalten:\nhttp://www.bueren.ch/de/veranstaltungen/det
 ail/detail.php?i=662
DTSTART:20260917T160000
DTEND:20260917T170000
LOCATION:Bibliothek Büren a. Aare
SUMMARY:Bibliothek - Kamishibai-Erzähltheater
END:VEVENT
END:VCALENDAR
