BEGIN:VCALENDAR
VERSION:2.0
PRODID:-//www.bueren.ch//NONSGML kigkonsult.se iCalcreator 2.22//
CALSCALE:GREGORIAN
METHOD:PUBLISH
X-WR-TIMEZONE:Europe/Berlin
BEGIN:VEVENT
UID:20260426T050244CEST-3142gClAWH@www.bueren.ch
DTSTAMP:20260426T030244Z
DESCRIPTION:Klicken Sie auf den folgenden Link\, um weitere Informationen z
 ur Veranstaltung zu erhalten:\nhttp://www.bueren.ch/de/veranstaltungen/det
 ail/detail.php?i=660
DTSTART:20261120T170000
DTEND:20261120T190000
LOCATION:Bibliothek Büren a. Aare
SUMMARY:Biblio-Treff
END:VEVENT
END:VCALENDAR
