BEGIN:VCALENDAR
VERSION:2.0
PRODID:-//www.bueren.ch//NONSGML kigkonsult.se iCalcreator 2.22//
CALSCALE:GREGORIAN
METHOD:PUBLISH
X-WR-TIMEZONE:Europe/Berlin
BEGIN:VEVENT
UID:20260426T050203CEST-9495R1gPt6@www.bueren.ch
DTSTAMP:20260426T030203Z
DESCRIPTION:Klicken Sie auf den folgenden Link\, um weitere Informationen z
 ur Veranstaltung zu erhalten:\nhttp://www.bueren.ch/de/veranstaltungen/det
 ail/detail.php?i=659
DTSTART:20261009T170000
DTEND:20261009T190000
LOCATION:Bibliothek Büren a. Aare
SUMMARY:Biblio-Treff
END:VEVENT
END:VCALENDAR
