BEGIN:VCALENDAR
VERSION:2.0
PRODID:-//www.bueren.ch//NONSGML kigkonsult.se iCalcreator 2.22//
CALSCALE:GREGORIAN
METHOD:PUBLISH
X-WR-TIMEZONE:Europe/Berlin
BEGIN:VEVENT
UID:20260420T074027CEST-82800hk5HM@www.bueren.ch
DTSTAMP:20260420T054027Z
DESCRIPTION:Klicken Sie auf den folgenden Link\, um weitere Informationen z
 ur Veranstaltung zu erhalten:\nhttp://www.bueren.ch/de/veranstaltungen/det
 ail/detail.php?i=653
DTSTART:20270501T000000
LOCATION:MZH Büren
SUMMARY:Frühlingskonzert
END:VEVENT
END:VCALENDAR
